BEGIN:VCALENDAR
VERSION:2.0
PRODID:-//Al-Andalusia - ECPv6.15.17.1//NONSGML v1.0//EN
CALSCALE:GREGORIAN
METHOD:PUBLISH
X-WR-CALNAME:Al-Andalusia
X-ORIGINAL-URL:https://alandalusia.es/en
X-WR-CALDESC:Events for Al-Andalusia
REFRESH-INTERVAL;VALUE=DURATION:PT1H
X-Robots-Tag:noindex
X-PUBLISHED-TTL:PT1H
BEGIN:VTIMEZONE
TZID:UTC
BEGIN:STANDARD
TZOFFSETFROM:+0000
TZOFFSETTO:+0000
TZNAME:UTC
DTSTART:20230101T000000
END:STANDARD
END:VTIMEZONE
BEGIN:VEVENT
DTSTART;VALUE=DATE:20250417
DTEND;VALUE=DATE:20250421
DTSTAMP:20260425T130438
CREATED:20240818T204644Z
LAST-MODIFIED:20240818T204644Z
UID:207916-1744848000-1745193599@alandalusia.es
SUMMARY:Retiro Al-Andalusia
DESCRIPTION:Únete al Retiro Al-Andalusia\, una experiencia única de reflexión\, espiritualidad y conexión con otros estudiantes y profesores del instituto. Este retiro ofrece una oportunidad para desconectarse del ajetreo diario\, sumergirse en el estudio del Islam\, y fortalecer la relación con Allah y con la comunidad. Las actividades incluirán sesiones de estudio\, dhikr\, oración en grupo\, y momentos de contemplación personal en un entorno tranquilo y espiritual. ¡No te pierdas esta oportunidad para rejuvenecer tu corazón y alma!
URL:https://alandalusia.es/en/evento/retiro-al-andalusia/
CATEGORIES:Al-Andalusia,Instituto Al-Andalusia
ATTACH;FMTTYPE=image/jpeg:https://alandalusia.es/wp-content/uploads/2024/04/IMG_6719.jpg
END:VEVENT
BEGIN:VEVENT
DTSTART;VALUE=DATE:20250329
DTEND;VALUE=DATE:20250401
DTSTAMP:20260425T130438
CREATED:20240818T203107Z
LAST-MODIFIED:20250319T201523Z
UID:207912-1743206400-1743465599@alandalusia.es
SUMMARY:Eid Al Fitr
DESCRIPTION:¡Eid Mubarak! Celebramos con alegría y gratitud el Eid Al-Fitr\, marcando el final del bendito mes de Ramadán. Que Allah acepte nuestro ayuno\, nuestras oraciones y todas nuestras buenas acciones durante este mes sagrado. Las vacaciones de Ramadán concluyen con esta celebración\, y las actividades académicas en el Instituto Al-Andalusia se reanudarán según el calendario académico. Que este Eid traiga paz\, felicidad y bendiciones a todos. \n 
URL:https://alandalusia.es/en/evento/eid-al-fitr/
CATEGORIES:Eventos Islámicos
ATTACH;FMTTYPE=image/png:https://alandalusia.es/wp-content/uploads/2024/08/eid-al-fitr.png
END:VEVENT
BEGIN:VEVENT
DTSTART;VALUE=DATE:20250228
DTEND;VALUE=DATE:20250331
DTSTAMP:20260425T130438
CREATED:20240818T202623Z
LAST-MODIFIED:20250319T201426Z
UID:207910-1740700800-1743379199@alandalusia.es
SUMMARY:Ramadán
DESCRIPTION:Hoy damos la bienvenida al bendito mes de Ramadán\, un tiempo especial de reflexión\, adoración y renovación espiritual. Durante este mes\, nuestros horarios de clases y actividades pueden ajustarse para permitir a nuestros estudiantes y profesores dedicarse plenamente al ayuno\, la oración y otras formas de adoración. Que Allah acepte nuestros actos de ibadah y nos conceda un Ramadán lleno de bendiciones y crecimiento espiritual. ¡Ramadán Mubarak!
URL:https://alandalusia.es/en/evento/ramadan/
CATEGORIES:Eventos Islámicos
ATTACH;FMTTYPE=image/avif:https://alandalusia.es/wp-content/uploads/2024/08/ramadan-karem.avif
END:VEVENT
BEGIN:VEVENT
DTSTART;VALUE=DATE:20250228
DTEND;VALUE=DATE:20250302
DTSTAMP:20260425T130438
CREATED:20240818T202403Z
LAST-MODIFIED:20240818T212229Z
UID:207907-1740700800-1740873599@alandalusia.es
SUMMARY:Comienzo Ramadán
DESCRIPTION:Hoy damos la bienvenida al bendito mes de Ramadán\, un tiempo especial de reflexión\, adoración y renovación espiritual. Durante este mes\, nuestros horarios de clases y actividades pueden ajustarse para permitir a nuestros estudiantes y profesores dedicarse plenamente al ayuno\, la oración y otras formas de adoración. Que Allah acepte nuestros actos de ibadah y nos conceda un Ramadán lleno de bendiciones y crecimiento espiritual. ¡Ramadán Mubarak!
URL:https://alandalusia.es/en/evento/comienzo-ramadan/
CATEGORIES:Eventos Islámicos
END:VEVENT
BEGIN:VEVENT
DTSTART;VALUE=DATE:20250117
DTEND;VALUE=DATE:20250118
DTSTAMP:20260425T130438
CREATED:20240818T201653Z
LAST-MODIFIED:20240818T201653Z
UID:207902-1737072000-1737158399@alandalusia.es
SUMMARY:Exámenes Parciales
DESCRIPTION:Durante estas fechas se llevarán a cabo los exámenes parciales correspondientes al primer semestre en el Instituto Al-Andalusia. Este es un momento clave para que nuestros estudiantes demuestren su comprensión y dominio de los conocimientos adquiridos hasta ahora. Les animamos a prepararse con dedicación y a poner su confianza en Allah. Que Allah les facilite y les conceda éxito en sus exámenes. ¡Mucho ánimo a todos!
URL:https://alandalusia.es/en/evento/examenes-parciales/
CATEGORIES:Instituto Al-Andalusia
END:VEVENT
BEGIN:VEVENT
DTSTART;VALUE=DATE:20241224
DTEND;VALUE=DATE:20250106
DTSTAMP:20260425T130438
CREATED:20240818T201915Z
LAST-MODIFIED:20240818T204408Z
UID:207904-1734998400-1736121599@alandalusia.es
SUMMARY:Umrah Al-Andalusia
DESCRIPTION:Durante estos días\, los alumnos del Instituto Al-Andalusia tendrán la bendita oportunidad de realizar la Umrah en grupo\, acompañados por nuestros profesores. Este viaje espiritual es una ocasión única para profundizar en la fe\, fortalecer los lazos comunitarios y realizar un acto de adoración en uno de los lugares más sagrados del Islam. Que Allah acepte nuestras intenciones y esfuerzos\, y que esta Umrah sea una experiencia transformadora para todos los participantes. Las actividades académicas se reanudarán después del viaje.
URL:https://alandalusia.es/en/evento/umrah-al-andalusia/
CATEGORIES:Instituto Al-Andalusia
ATTACH;FMTTYPE=image/jpeg:https://alandalusia.es/wp-content/uploads/2024/08/SMH-765909-Property-Image-Exterior-View.jpg
END:VEVENT
BEGIN:VEVENT
DTSTART;VALUE=DATE:20241222
DTEND;VALUE=DATE:20250106
DTSTAMP:20260425T130438
CREATED:20241214T201442Z
LAST-MODIFIED:20251214T233812Z
UID:207900-1734825600-1736121599@alandalusia.es
SUMMARY:Vacaciones Invierno
DESCRIPTION:El Instituto Al-Andalusia estará cerrado por las vacaciones de invierno. Es un momento para que nuestros estudiantes y profesores descansen\, recarguen energías y disfruten de tiempo en familia. Las clases y actividades se reanudarán después de las vacaciones\, según el calendario académico. Que Allah nos conceda un descanso renovador y nos permita regresar con energía para continuar nuestro viaje de aprendizaje.
URL:https://alandalusia.es/en/evento/vacaciones-invierno/
CATEGORIES:Al-Andalusia
END:VEVENT
BEGIN:VEVENT
DTSTART;VALUE=DATE:20241012
DTEND;VALUE=DATE:20241013
DTSTAMP:20260425T130438
CREATED:20240818T201258Z
LAST-MODIFIED:20240818T212131Z
UID:207898-1728691200-1728777599@alandalusia.es
SUMMARY:Ceremonia de Graduación
DESCRIPTION:Con gran orgullo y alegría\, celebramos la Ceremonia de Graduación del Instituto Al-Andalusia. Este evento marca un momento significativo en el viaje académico de nuestros estudiantes\, quienes han completado con éxito sus estudios en los diversos programas ofrecidos por el instituto. Es una ocasión para honrar su dedicación\, esfuerzo y logros en la búsqueda del conocimiento islámico. Que Allah continúe guiándolos y bendiciendo sus futuros esfuerzos. ¡Felicitaciones a todos los graduados!
URL:https://alandalusia.es/en/evento/ceremonia-de-graduacion/
LOCATION:Instituto Al-Andalusia\, Calle Los Romeros 7\, sevilla\, Sevilla\, 41009\, España
CATEGORIES:Instituto Al-Andalusia
ATTACH;FMTTYPE=image/jpeg:https://alandalusia.es/wp-content/uploads/2024/04/d5d08d93-e89e-4c3f-82cd-ca9d4e87c925-e1712327785180.jpg
END:VEVENT
BEGIN:VEVENT
DTSTART;TZID=UTC:20240903T193000
DTEND;TZID=UTC:20240903T223000
DTSTAMP:20260425T130438
CREATED:20240818T200720Z
LAST-MODIFIED:20240818T201046Z
UID:207895-1725391800-1725402600@alandalusia.es
SUMMARY:Comienzo Cursos del Instituto
DESCRIPTION:Bienvenidos al nuevo año escolar en el Instituto Al-Andalusia! Hoy damos inicio a todos nuestros cursos\, desde el Curso Esenciales hasta los Grados en Ciencias y Teología Islámicas. Es un momento emocionante para comenzar o continuar tu viaje de aprendizaje islámico. Que Allah nos conceda éxito en este año académico\, nos permita adquirir conocimiento beneficioso y nos guíe en cada paso de este camino. ¡Bismillah!
URL:https://alandalusia.es/en/evento/comienzo-cursos-del-instituto/
CATEGORIES:Instituto Al-Andalusia
END:VEVENT
END:VCALENDAR