BEGIN:VCALENDAR
VERSION:2.0
PRODID:-//Al-Andalusia - ECPv6.15.17.1//NONSGML v1.0//EN
CALSCALE:GREGORIAN
METHOD:PUBLISH
X-ORIGINAL-URL:https://alandalusia.es
X-WR-CALDESC:Eventos para Al-Andalusia
REFRESH-INTERVAL;VALUE=DURATION:PT1H
X-Robots-Tag:noindex
X-PUBLISHED-TTL:PT1H
BEGIN:VTIMEZONE
TZID:UTC
BEGIN:STANDARD
TZOFFSETFROM:+0000
TZOFFSETTO:+0000
TZNAME:UTC
DTSTART:20240101T000000
END:STANDARD
END:VTIMEZONE
BEGIN:VEVENT
DTSTART;VALUE=DATE:20250531
DTEND;VALUE=DATE:20250630
DTSTAMP:20260424T085157
CREATED:20240818T204809Z
LAST-MODIFIED:20240818T204824Z
UID:207919-1748649600-1751241599@alandalusia.es
SUMMARY:Exámenes Finales
DESCRIPTION:Durante estas fechas se llevarán a cabo los Exámenes Finales en el Instituto Al-Andalusia. Este es el momento decisivo para demostrar todo lo aprendido a lo largo del curso. Les animamos a prepararse con diligencia y a confiar en Allah para alcanzar el éxito. Que Allah les facilite el camino y les conceda éxito en estos exámenes. ¡Mucho ánimo a todos nuestros estudiantes!
URL:https://alandalusia.es/evento/examenes-finales/
CATEGORIES:Instituto Al-Andalusia
ATTACH;FMTTYPE=image/jpeg:https://alandalusia.es/wp-content/uploads/2024/04/sasasas-scaled.jpeg
END:VEVENT
BEGIN:VEVENT
DTSTART;VALUE=DATE:20250607
DTEND;VALUE=DATE:20250609
DTSTAMP:20260424T085157
CREATED:20240818T205102Z
LAST-MODIFIED:20240818T205102Z
UID:207922-1749254400-1749427199@alandalusia.es
SUMMARY:Eid Al-Adha
DESCRIPTION:¡Eid Mubarak! Celebramos con gratitud y alegría el Eid Al-Adha\, la Fiesta del Sacrificio\, recordando la sumisión y devoción de nuestro Profeta Ibrahim (la paz sea con él). Es un momento para reflexionar\, compartir con la familia y la comunidad\, y realizar actos de caridad. Que Allah acepte nuestros sacrificios y bendiga a toda la Ummah con paz y felicidad. Las actividades académicas del Instituto Al-Andalusia se pausarán durante esta festividad para permitir a todos disfrutar plenamente de este día tan especial.
URL:https://alandalusia.es/evento/eid-al-adha/
CATEGORIES:Eventos Islámicos
ATTACH;FMTTYPE=image/jpeg:https://alandalusia.es/wp-content/uploads/2024/08/Eid-Al-Adha.jpg
END:VEVENT
BEGIN:VEVENT
DTSTART;VALUE=DATE:20250629
DTEND;VALUE=DATE:20250630
DTSTAMP:20260424T085157
CREATED:20240818T205238Z
LAST-MODIFIED:20240818T205249Z
UID:207925-1751155200-1751241599@alandalusia.es
SUMMARY:Fin de Curso
DESCRIPTION:Hoy marca el fin del año académico en el Instituto Al-Andalusia. Felicitamos a todos nuestros estudiantes por su dedicación y esfuerzo a lo largo del curso. Este es un momento para reflexionar sobre lo aprendido\, agradecer a Allah por las oportunidades de conocimiento\, y celebrar los logros alcanzados. Que Allah continúe guiándolos en su búsqueda del conocimiento y los bendiga en sus futuros estudios. ¡Esperamos verlos de nuevo el próximo curso\, insha’Allah!
URL:https://alandalusia.es/evento/fin-de-curso/
CATEGORIES:Academia Al-Andalusia,Instituto Al-Andalusia
ATTACH;FMTTYPE=image/jpeg:https://alandalusia.es/wp-content/uploads/2024/04/257953112_5112611998766570_748490689182533016_n-1.jpg
END:VEVENT
BEGIN:VEVENT
DTSTART;VALUE=DATE:20250704
DTEND;VALUE=DATE:20250708
DTSTAMP:20260424T085157
CREATED:20240818T205407Z
LAST-MODIFIED:20240818T205510Z
UID:207928-1751587200-1751932799@alandalusia.es
SUMMARY:Encuentro Estudiantes
DESCRIPTION:Únete a nosotros en el Encuentro de Estudiantes del Instituto Al-Andalusia\, un evento especial diseñado para fortalecer los lazos entre nuestros estudiantes. Este encuentro ofrecerá una oportunidad única para compartir experiencias\, aprender unos de otros y disfrutar de un ambiente de hermandad y apoyo mutuo. Habrá actividades interactivas\, charlas inspiradoras y tiempo para socializar. ¡No te lo pierdas!
URL:https://alandalusia.es/evento/encuentro-estudiantes/
LOCATION:Instituto Al-Andalusia\, Calle Los Romeros 7\, sevilla\, Sevilla\, 41009\, España
CATEGORIES:Instituto Al-Andalusia
ATTACH;FMTTYPE=image/jpeg:https://alandalusia.es/wp-content/uploads/2024/04/DJI_20230709_133116_050-scaled.jpg
END:VEVENT
BEGIN:VEVENT
DTSTART;VALUE=DATE:20250802
DTEND;VALUE=DATE:20250818
DTSTAMP:20260424T085157
CREATED:20240818T205609Z
LAST-MODIFIED:20240818T205609Z
UID:207930-1754092800-1755475199@alandalusia.es
SUMMARY:Exámenes de Recuperación
DESCRIPTION:Durante estas fechas se realizarán los Exámenes de Recuperación para aquellos estudiantes que necesiten una segunda oportunidad para demostrar su conocimiento en las materias del curso. Este es un momento clave para repasar y prepararse adecuadamente. Les animamos a estudiar con dedicación y a confiar en Allah para lograr el éxito. ¡Mucho ánimo y que Allah les facilite estos exámenes! \n 
URL:https://alandalusia.es/evento/examenes-de-recuperacion/
CATEGORIES:Instituto Al-Andalusia
ATTACH;FMTTYPE=image/jpeg:https://alandalusia.es/wp-content/uploads/2024/04/sasasas-scaled.jpeg
END:VEVENT
BEGIN:VEVENT
DTSTART;VALUE=DATE:20251221
DTEND;VALUE=DATE:20260105
DTSTAMP:20260424T085157
CREATED:20251214T234404Z
LAST-MODIFIED:20251219T221907Z
UID:209875-1766275200-1767571199@alandalusia.es
SUMMARY:Vacaciones de Invierno 2025
DESCRIPTION:La Universidad Al-Andalusia permanecerá cerrada durante las vacaciones de invierno. Este tiempo es una oportunidad para descansar\, recargar energías y compartir momentos con la familia. Las clases y actividades académicas se reanudarán tras el periodo vacacional\, de acuerdo con el calendario académico. \nQue Allah nos conceda un descanso reparador y nos permita retomar nuestras actividades con renovada energía para continuar nuestro camino de aprendizaje.
URL:https://alandalusia.es/evento/vacaciones-de-invierno-2025/
CATEGORIES:Al-Andalusia
ATTACH;FMTTYPE=image/jpeg:https://alandalusia.es/wp-content/uploads/2025/12/carretera-nevada-en-tirol-del-sur-dolomitas-italia-scaled.jpg
END:VEVENT
BEGIN:VEVENT
DTSTART;VALUE=DATE:20260114
DTEND;VALUE=DATE:20260201
DTSTAMP:20260424T085157
CREATED:20251219T133831Z
LAST-MODIFIED:20251219T221818Z
UID:209899-1768348800-1769903999@alandalusia.es
SUMMARY:Exámenes Parciales 2026
DESCRIPTION:Durante estas fechas se llevarán a cabo los exámenes parciales del primer semestre en el Instituto Al-Andalusia\, un momento clave para evaluar el progreso académico de nuestros estudiantes. Animamos a todos a afrontarlos con dedicación\, serenidad y constancia\, confiando su esfuerzo a Allah y dando lo mejor de sí en este proceso. Que Allah les facilite el estudio y les conceda éxito. \nMucho ánimo a todos.
URL:https://alandalusia.es/evento/examenes-parciales-2026/
CATEGORIES:Al-Andalusia
ATTACH;FMTTYPE=image/jpeg:https://alandalusia.es/wp-content/uploads/2025/12/a872c7d7-78fb-4085-8031-e8daa42a89a1-scaled.jpg
END:VEVENT
BEGIN:VEVENT
DTSTART;VALUE=DATE:20260218
DTEND;VALUE=DATE:20260320
DTSTAMP:20260424T085157
CREATED:20260201T181040Z
LAST-MODIFIED:20260214T182458Z
UID:210230-1771372800-1773964799@alandalusia.es
SUMMARY:Ramadán
DESCRIPTION:Con motivo de la llegada del mes de Ramadán\, periodo de especial significado espiritual para la comunidad musulmana\, informamos de que\, durante estas semanas\, podrán realizarse ajustes en los horarios de clases y actividades académicas. \nEstas adaptaciones tienen como finalidad facilitar que estudiantes y profesorado puedan conciliar sus responsabilidades académicas con la práctica del ayuno\, la oración y otras formas de adoración propias de este mes. \nDeseamos a toda la comunidad universitaria un Ramadán de recogimiento\, crecimiento personal y fortalecimiento espiritual.
URL:https://alandalusia.es/evento/ramadan-2/
CATEGORIES:Event
ATTACH;FMTTYPE=image/jpeg:https://alandalusia.es/wp-content/uploads/2026/02/eid-lamps-lanterns-ramadan-other-islamic-muslim-holidays-with-copy-space-text-generat-scaled.jpg
END:VEVENT
END:VCALENDAR