BEGIN:VCALENDAR
VERSION:2.0
PRODID:-//Al-Andalusia - ECPv6.15.17.1//NONSGML v1.0//EN
CALSCALE:GREGORIAN
METHOD:PUBLISH
X-WR-CALNAME:Al-Andalusia
X-ORIGINAL-URL:https://alandalusia.es
X-WR-CALDESC:Eventos para Al-Andalusia
REFRESH-INTERVAL;VALUE=DURATION:PT1H
X-Robots-Tag:noindex
X-PUBLISHED-TTL:PT1H
BEGIN:VTIMEZONE
TZID:UTC
BEGIN:STANDARD
TZOFFSETFROM:+0000
TZOFFSETTO:+0000
TZNAME:UTC
DTSTART:20230101T000000
END:STANDARD
END:VTIMEZONE
BEGIN:VEVENT
DTSTART;VALUE=DATE:20241222
DTEND;VALUE=DATE:20250106
DTSTAMP:20260425T114106
CREATED:20241214T201442Z
LAST-MODIFIED:20251214T233812Z
UID:207900-1734825600-1736121599@alandalusia.es
SUMMARY:Vacaciones Invierno
DESCRIPTION:El Instituto Al-Andalusia estará cerrado por las vacaciones de invierno. Es un momento para que nuestros estudiantes y profesores descansen\, recarguen energías y disfruten de tiempo en familia. Las clases y actividades se reanudarán después de las vacaciones\, según el calendario académico. Que Allah nos conceda un descanso renovador y nos permita regresar con energía para continuar nuestro viaje de aprendizaje.
URL:https://alandalusia.es/evento/vacaciones-invierno/
CATEGORIES:Al-Andalusia
END:VEVENT
BEGIN:VEVENT
DTSTART;VALUE=DATE:20241224
DTEND;VALUE=DATE:20250106
DTSTAMP:20260425T114106
CREATED:20240818T201915Z
LAST-MODIFIED:20240818T204408Z
UID:207904-1734998400-1736121599@alandalusia.es
SUMMARY:Umrah Al-Andalusia
DESCRIPTION:Durante estos días\, los alumnos del Instituto Al-Andalusia tendrán la bendita oportunidad de realizar la Umrah en grupo\, acompañados por nuestros profesores. Este viaje espiritual es una ocasión única para profundizar en la fe\, fortalecer los lazos comunitarios y realizar un acto de adoración en uno de los lugares más sagrados del Islam. Que Allah acepte nuestras intenciones y esfuerzos\, y que esta Umrah sea una experiencia transformadora para todos los participantes. Las actividades académicas se reanudarán después del viaje.
URL:https://alandalusia.es/evento/umrah-al-andalusia/
CATEGORIES:Instituto Al-Andalusia
ATTACH;FMTTYPE=image/jpeg:https://alandalusia.es/wp-content/uploads/2024/08/SMH-765909-Property-Image-Exterior-View.jpg
END:VEVENT
END:VCALENDAR